BEGIN:VCALENDAR
VERSION:2.0
PRODID:-//Upper Blue Mountains Camera Club - ECPv6.15.20//NONSGML v1.0//EN
CALSCALE:GREGORIAN
METHOD:PUBLISH
X-ORIGINAL-URL:https://upperbluemtnscameraclub.org
X-WR-CALDESC:Events for Upper Blue Mountains Camera Club
REFRESH-INTERVAL;VALUE=DURATION:PT1H
X-Robots-Tag:noindex
X-PUBLISHED-TTL:PT1H
BEGIN:VTIMEZONE
TZID:Australia/Sydney
BEGIN:STANDARD
TZOFFSETFROM:+1100
TZOFFSETTO:+1000
TZNAME:AEST
DTSTART:20250405T160000
END:STANDARD
BEGIN:DAYLIGHT
TZOFFSETFROM:+1000
TZOFFSETTO:+1100
TZNAME:AEDT
DTSTART:20251004T160000
END:DAYLIGHT
BEGIN:STANDARD
TZOFFSETFROM:+1100
TZOFFSETTO:+1000
TZNAME:AEST
DTSTART:20260404T160000
END:STANDARD
BEGIN:DAYLIGHT
TZOFFSETFROM:+1000
TZOFFSETTO:+1100
TZNAME:AEDT
DTSTART:20261003T160000
END:DAYLIGHT
BEGIN:STANDARD
TZOFFSETFROM:+1100
TZOFFSETTO:+1000
TZNAME:AEST
DTSTART:20270403T160000
END:STANDARD
BEGIN:DAYLIGHT
TZOFFSETFROM:+1000
TZOFFSETTO:+1100
TZNAME:AEDT
DTSTART:20271002T160000
END:DAYLIGHT
END:VTIMEZONE
BEGIN:VEVENT
DTSTART;TZID=Australia/Sydney:20261102T193000
DTEND;TZID=Australia/Sydney:20261102T213000
DTSTAMP:20260424T093949
CREATED:20260226T063746Z
LAST-MODIFIED:20260226T063746Z
UID:5743-1793647800-1793655000@upperbluemtnscameraclub.org
SUMMARY:Exhibition night - Open
DESCRIPTION:
URL:https://upperbluemtnscameraclub.org/event/exhibition-night-open-2/
LOCATION:Katoomba RSL\, 86 Lurline Street\, Katoomba\, 2780\, Australia
CATEGORIES:Exhibition Night
END:VEVENT
BEGIN:VEVENT
DTSTART;TZID=Australia/Sydney:20261116T190000
DTEND;TZID=Australia/Sydney:20261116T213000
DTSTAMP:20260424T093949
CREATED:20260226T072403Z
LAST-MODIFIED:20260226T072403Z
UID:5766-1794855600-1794864600@upperbluemtnscameraclub.org
SUMMARY:Information night - Your Photographic Journal
DESCRIPTION:
URL:https://upperbluemtnscameraclub.org/event/information-night-your-photographic-journal/
LOCATION:Katoomba RSL\, 86 Lurline Street\, Katoomba\, 2780\, Australia
CATEGORIES:Information Night
END:VEVENT
END:VCALENDAR