BEGIN:VCALENDAR
VERSION:2.0
PRODID:-//Upper Blue Mountains Camera Club - ECPv6.15.20//NONSGML v1.0//EN
CALSCALE:GREGORIAN
METHOD:PUBLISH
X-WR-CALNAME:Upper Blue Mountains Camera Club
X-ORIGINAL-URL:https://upperbluemtnscameraclub.org
X-WR-CALDESC:Events for Upper Blue Mountains Camera Club
REFRESH-INTERVAL;VALUE=DURATION:PT1H
X-Robots-Tag:noindex
X-PUBLISHED-TTL:PT1H
BEGIN:VTIMEZONE
TZID:Australia/Sydney
BEGIN:STANDARD
TZOFFSETFROM:+1100
TZOFFSETTO:+1000
TZNAME:AEST
DTSTART:20250405T160000
END:STANDARD
BEGIN:DAYLIGHT
TZOFFSETFROM:+1000
TZOFFSETTO:+1100
TZNAME:AEDT
DTSTART:20251004T160000
END:DAYLIGHT
BEGIN:STANDARD
TZOFFSETFROM:+1100
TZOFFSETTO:+1000
TZNAME:AEST
DTSTART:20260404T160000
END:STANDARD
BEGIN:DAYLIGHT
TZOFFSETFROM:+1000
TZOFFSETTO:+1100
TZNAME:AEDT
DTSTART:20261003T160000
END:DAYLIGHT
BEGIN:STANDARD
TZOFFSETFROM:+1100
TZOFFSETTO:+1000
TZNAME:AEST
DTSTART:20270403T160000
END:STANDARD
BEGIN:DAYLIGHT
TZOFFSETFROM:+1000
TZOFFSETTO:+1100
TZNAME:AEDT
DTSTART:20271002T160000
END:DAYLIGHT
END:VTIMEZONE
BEGIN:VEVENT
DTSTART;TZID=Australia/Sydney:20260601T190000
DTEND;TZID=Australia/Sydney:20260601T213000
DTSTAMP:20260424T022558
CREATED:20260226T063126Z
LAST-MODIFIED:20260226T072121Z
UID:5733-1780340400-1780349400@upperbluemtnscameraclub.org
SUMMARY:Exhibition night - Scapes
DESCRIPTION:Scapes\nDefinition:\nA digital image of landscapes\, seascapes or skyscapes that depicts their beauty\, emotional impact\, history\, environmental qualities\, spiritual\, symbolic or other significance. Human made structures and people may be included as long as they are not a significant part of the image and do not dominate the image \nTips:\nWhere possible\, have no human structures in your scapes. However\, if you must have a human element in your scene\, make sure it is not visually dominant and draws attention to itself. For example\, a very small but bright red house in a very large\, green landscape is visually dominant and will be disqualified (FCC NSW\, 2026\, p. 10). \n 
URL:https://upperbluemtnscameraclub.org/event/exhibition-night-scapes/
LOCATION:Katoomba RSL\, 86 Lurline Street\, Katoomba\, 2780\, Australia
CATEGORIES:Exhibition Night
END:VEVENT
BEGIN:VEVENT
DTSTART;TZID=Australia/Sydney:20260615T190000
DTEND;TZID=Australia/Sydney:20260615T213000
DTSTAMP:20260424T022558
CREATED:20260226T064816Z
LAST-MODIFIED:20260226T064816Z
UID:5755-1781550000-1781559000@upperbluemtnscameraclub.org
SUMMARY:Information night - Creative follow up
DESCRIPTION:Members to bring their own work.
URL:https://upperbluemtnscameraclub.org/event/information-night-creative-follow-up/
LOCATION:Katoomba RSL\, 86 Lurline Street\, Katoomba\, 2780\, Australia
CATEGORIES:Information Night
END:VEVENT
END:VCALENDAR