BEGIN:VCALENDAR
VERSION:2.0
PRODID:-//Upper Blue Mountains Camera Club - ECPv6.15.20//NONSGML v1.0//EN
CALSCALE:GREGORIAN
METHOD:PUBLISH
X-WR-CALNAME:Upper Blue Mountains Camera Club
X-ORIGINAL-URL:https://upperbluemtnscameraclub.org
X-WR-CALDESC:Events for Upper Blue Mountains Camera Club
REFRESH-INTERVAL;VALUE=DURATION:PT1H
X-Robots-Tag:noindex
X-PUBLISHED-TTL:PT1H
BEGIN:VTIMEZONE
TZID:Australia/Sydney
BEGIN:STANDARD
TZOFFSETFROM:+1100
TZOFFSETTO:+1000
TZNAME:AEST
DTSTART:20250405T160000
END:STANDARD
BEGIN:DAYLIGHT
TZOFFSETFROM:+1000
TZOFFSETTO:+1100
TZNAME:AEDT
DTSTART:20251004T160000
END:DAYLIGHT
BEGIN:STANDARD
TZOFFSETFROM:+1100
TZOFFSETTO:+1000
TZNAME:AEST
DTSTART:20260404T160000
END:STANDARD
BEGIN:DAYLIGHT
TZOFFSETFROM:+1000
TZOFFSETTO:+1100
TZNAME:AEDT
DTSTART:20261003T160000
END:DAYLIGHT
BEGIN:STANDARD
TZOFFSETFROM:+1100
TZOFFSETTO:+1000
TZNAME:AEST
DTSTART:20270403T160000
END:STANDARD
BEGIN:DAYLIGHT
TZOFFSETFROM:+1000
TZOFFSETTO:+1100
TZNAME:AEDT
DTSTART:20271002T160000
END:DAYLIGHT
END:VTIMEZONE
BEGIN:VEVENT
DTSTART;TZID=Australia/Sydney:20260202T193000
DTEND;TZID=Australia/Sydney:20260202T213000
DTSTAMP:20260424T025927
CREATED:20251109T081440Z
LAST-MODIFIED:20251109T082310Z
UID:5598-1770060600-1770067800@upperbluemtnscameraclub.org
SUMMARY:Exhibition Night and Annual General Meeting
DESCRIPTION:Arrive between 7:00pm and 7:15pm for a prompt 7:30pm start \n\nThis evening\, will start with our Annual General Meeting following by our first exhibition night for the year.\nFor the Exhibition night members may submit up to three images previously exhibited during the year.\nJudges: Three in-house judges\n\nVisitors are welcome\, but please remember to sign in\, as it is essential for our Public Liability Insurance cover.
URL:https://upperbluemtnscameraclub.org/event/exhibition-night-and-annual-general-meeting/
LOCATION:Katoomba RSL\, 86 Lurline Street\, Katoomba\, 2780\, Australia
END:VEVENT
BEGIN:VEVENT
DTSTART;TZID=Australia/Sydney:20260216T193000
DTEND;TZID=Australia/Sydney:20260216T213000
DTSTAMP:20260424T025927
CREATED:20260208T014009Z
LAST-MODIFIED:20260208T014611Z
UID:5720-1771270200-1771277400@upperbluemtnscameraclub.org
SUMMARY:Information Night - Presented by Gary Hayes
DESCRIPTION:Website: https://garyphayes.photography/about-the-photography/
URL:https://upperbluemtnscameraclub.org/event/exhibition-night-presented-by-gary-hayes/
LOCATION:Katoomba RSL\, 86 Lurline Street\, Katoomba\, 2780\, Australia
CATEGORIES:Information Night
END:VEVENT
END:VCALENDAR