BEGIN:VCALENDAR
VERSION:2.0
PRODID:-//Upper Blue Mountains Camera Club - ECPv6.15.20//NONSGML v1.0//EN
CALSCALE:GREGORIAN
METHOD:PUBLISH
X-ORIGINAL-URL:https://upperbluemtnscameraclub.org
X-WR-CALDESC:Events for Upper Blue Mountains Camera Club
REFRESH-INTERVAL;VALUE=DURATION:PT1H
X-Robots-Tag:noindex
X-PUBLISHED-TTL:PT1H
BEGIN:VTIMEZONE
TZID:Australia/Sydney
BEGIN:STANDARD
TZOFFSETFROM:+1100
TZOFFSETTO:+1000
TZNAME:AEST
DTSTART:20240406T160000
END:STANDARD
BEGIN:DAYLIGHT
TZOFFSETFROM:+1000
TZOFFSETTO:+1100
TZNAME:AEDT
DTSTART:20241005T160000
END:DAYLIGHT
BEGIN:STANDARD
TZOFFSETFROM:+1100
TZOFFSETTO:+1000
TZNAME:AEST
DTSTART:20250405T160000
END:STANDARD
BEGIN:DAYLIGHT
TZOFFSETFROM:+1000
TZOFFSETTO:+1100
TZNAME:AEDT
DTSTART:20251004T160000
END:DAYLIGHT
BEGIN:STANDARD
TZOFFSETFROM:+1100
TZOFFSETTO:+1000
TZNAME:AEST
DTSTART:20260404T160000
END:STANDARD
BEGIN:DAYLIGHT
TZOFFSETFROM:+1000
TZOFFSETTO:+1100
TZNAME:AEDT
DTSTART:20261003T160000
END:DAYLIGHT
END:VTIMEZONE
BEGIN:VEVENT
DTSTART;TZID=Australia/Sydney:20251103T193000
DTEND;TZID=Australia/Sydney:20251103T213000
DTSTAMP:20260424T072516
CREATED:20250419T002935Z
LAST-MODIFIED:20250902T095650Z
UID:5026-1762198200-1762205400@upperbluemtnscameraclub.org
SUMMARY:Exhibition night - Set Category (Mono)
DESCRIPTION:Members may submit up to three images as prints or digital files.\nThis month the set theme is Mono only.
URL:https://upperbluemtnscameraclub.org/event/exhibtion-night-7/
LOCATION:Katoomba RSL\, 86 Lurline Street\, Katoomba\, 2780\, Australia
CATEGORIES:Exhibition Night
END:VEVENT
BEGIN:VEVENT
DTSTART;TZID=Australia/Sydney:20251117T193000
DTEND;TZID=Australia/Sydney:20251117T213000
DTSTAMP:20260424T072516
CREATED:20250419T002949Z
LAST-MODIFIED:20250504T060232Z
UID:5027-1763407800-1763415000@upperbluemtnscameraclub.org
SUMMARY:Information night - My Photographic Year
DESCRIPTION:Members can present audiovisual\, prints or digitally projected images to represent their photographic year.\nIt could be a photographic project that has been worked on\, before and after photos (critique and re-edit)\, a favourite subject\, experimentation etc.
URL:https://upperbluemtnscameraclub.org/event/information-night-8/
LOCATION:Katoomba RSL\, 86 Lurline Street\, Katoomba\, 2780\, Australia
CATEGORIES:Information Night
END:VEVENT
BEGIN:VEVENT
DTSTART;TZID=Australia/Sydney:20251126T000000
DTEND;TZID=Australia/Sydney:20251126T235959
DTSTAMP:20260424T072516
CREATED:20250427T060815Z
LAST-MODIFIED:20251120T192607Z
UID:5207-1764115200-1764201599@upperbluemtnscameraclub.org
SUMMARY:Deadline - Exhibition Night Entries
DESCRIPTION:This is the last day to submit images for next week’s ‘End of Year’ Exhibition Night. The set theme for June is ‘Your best three images of the year’\n\nHow – Correctly Sized and named \n \nSizing requirements. \nIf you are unsure\, follow this link to the website:\n.. i.e. within 1920px (max width) × 1200px (max height) – in ‘jpg’ (jpeg) format.\nhttps://upperbluemtnscameraclub.org/info-links/\n\nCorrectly named to include the ‘O’ or the ‘S’\n \n\nThere should be a space and then either an S or O after your image title to identify if your image falls into the ‘open’ or ‘set theme’ category.\n \nDigital Images:  [DPI] name of image S_your initials.jpg (set theme category)\nColour Prints: [CP] name of image O_your initials.jpg (open category)\n\nMono Prints:   [MP] name of image O_your initials.jpg (open category\n \n  \n\n\nPlease remember to make sure that the images you sent are within the guidelines for projected images.\nIf you are unsure\, please check the website https://upperbluemtnscameraclub.org/info-links/2211-2/submitting-images/
URL:https://upperbluemtnscameraclub.org/event/deadline-exhibition-night-entries/
CATEGORIES:Exhibition Night
END:VEVENT
BEGIN:VEVENT
DTSTART;TZID=Australia/Sydney:20251130T193000
DTEND;TZID=Australia/Sydney:20251130T213000
DTSTAMP:20260424T072516
CREATED:20250419T002950Z
LAST-MODIFIED:20251123T093510Z
UID:5028-1764531000-1764538200@upperbluemtnscameraclub.org
SUMMARY:Exhibition Night - End of Year
DESCRIPTION:Members may submit up to three images previously exhibited during the year.\nThis evening\, photographs are not scored.\nJudge: Don Munro\n\n 
URL:https://upperbluemtnscameraclub.org/event/exhibtion-night-8/
LOCATION:Katoomba RSL\, 86 Lurline Street\, Katoomba\, 2780\, Australia
CATEGORIES:Exhibition Night
END:VEVENT
END:VCALENDAR