BEGIN:VCALENDAR
VERSION:2.0
PRODID:-//Upper Blue Mountains Camera Club - ECPv6.15.20//NONSGML v1.0//EN
CALSCALE:GREGORIAN
METHOD:PUBLISH
X-ORIGINAL-URL:https://upperbluemtnscameraclub.org
X-WR-CALDESC:Events for Upper Blue Mountains Camera Club
REFRESH-INTERVAL;VALUE=DURATION:PT1H
X-Robots-Tag:noindex
X-PUBLISHED-TTL:PT1H
BEGIN:VTIMEZONE
TZID:Australia/Sydney
BEGIN:STANDARD
TZOFFSETFROM:+1100
TZOFFSETTO:+1000
TZNAME:AEST
DTSTART:20240406T160000
END:STANDARD
BEGIN:DAYLIGHT
TZOFFSETFROM:+1000
TZOFFSETTO:+1100
TZNAME:AEDT
DTSTART:20241005T160000
END:DAYLIGHT
BEGIN:STANDARD
TZOFFSETFROM:+1100
TZOFFSETTO:+1000
TZNAME:AEST
DTSTART:20250405T160000
END:STANDARD
BEGIN:DAYLIGHT
TZOFFSETFROM:+1000
TZOFFSETTO:+1100
TZNAME:AEDT
DTSTART:20251004T160000
END:DAYLIGHT
BEGIN:STANDARD
TZOFFSETFROM:+1100
TZOFFSETTO:+1000
TZNAME:AEST
DTSTART:20260404T160000
END:STANDARD
BEGIN:DAYLIGHT
TZOFFSETFROM:+1000
TZOFFSETTO:+1100
TZNAME:AEDT
DTSTART:20261003T160000
END:DAYLIGHT
END:VTIMEZONE
BEGIN:VEVENT
DTSTART;TZID=Australia/Sydney:20250901T193000
DTEND;TZID=Australia/Sydney:20250901T213000
DTSTAMP:20260424T102537
CREATED:20250419T002934Z
LAST-MODIFIED:20250601T060947Z
UID:5022-1756755000-1756762200@upperbluemtnscameraclub.org
SUMMARY:Exhibtion night - Set Theme (Macro /Closeup)
DESCRIPTION:Members may submit up to three images as prints or digital files.\nUse a dedicated Macro lens or get in close with a standard lens for this month’s theme of Macro/close-up.
URL:https://upperbluemtnscameraclub.org/event/exhibtion-night-5/
LOCATION:Katoomba RSL\, 86 Lurline Street\, Katoomba\, 2780\, Australia
CATEGORIES:Exhibition Night
END:VEVENT
BEGIN:VEVENT
DTSTART;TZID=Australia/Sydney:20250915T193000
DTEND;TZID=Australia/Sydney:20250915T213000
DTSTAMP:20260424T102537
CREATED:20250419T002935Z
LAST-MODIFIED:20250821T094200Z
UID:5023-1757964600-1757971800@upperbluemtnscameraclub.org
SUMMARY:Information night - Mono “A Game of Tones” with Mieke Boynton
DESCRIPTION:Tonight’s live Zoom presentation will be available for you to enjoy in the comfort of your home. You can also invite a few other club members to make the evening a social event.\nMieke will outline the basics of black-and-white photography and highlight her decision-making process as she shares a range of her favourite monochrome images.
URL:https://upperbluemtnscameraclub.org/event/information-night-6/
CATEGORIES:Information Night
END:VEVENT
END:VCALENDAR