BEGIN:VCALENDAR
VERSION:2.0
PRODID:-//Upper Blue Mountains Camera Club - ECPv6.15.20//NONSGML v1.0//EN
CALSCALE:GREGORIAN
METHOD:PUBLISH
X-ORIGINAL-URL:https://upperbluemtnscameraclub.org
X-WR-CALDESC:Events for Upper Blue Mountains Camera Club
REFRESH-INTERVAL;VALUE=DURATION:PT1H
X-Robots-Tag:noindex
X-PUBLISHED-TTL:PT1H
BEGIN:VTIMEZONE
TZID:Australia/Sydney
BEGIN:STANDARD
TZOFFSETFROM:+1100
TZOFFSETTO:+1000
TZNAME:AEST
DTSTART:20250405T160000
END:STANDARD
BEGIN:DAYLIGHT
TZOFFSETFROM:+1000
TZOFFSETTO:+1100
TZNAME:AEDT
DTSTART:20251004T160000
END:DAYLIGHT
BEGIN:STANDARD
TZOFFSETFROM:+1100
TZOFFSETTO:+1000
TZNAME:AEST
DTSTART:20260404T160000
END:STANDARD
BEGIN:DAYLIGHT
TZOFFSETFROM:+1000
TZOFFSETTO:+1100
TZNAME:AEDT
DTSTART:20261003T160000
END:DAYLIGHT
BEGIN:STANDARD
TZOFFSETFROM:+1100
TZOFFSETTO:+1000
TZNAME:AEST
DTSTART:20270403T160000
END:STANDARD
BEGIN:DAYLIGHT
TZOFFSETFROM:+1000
TZOFFSETTO:+1100
TZNAME:AEDT
DTSTART:20271002T160000
END:DAYLIGHT
END:VTIMEZONE
BEGIN:VEVENT
DTSTART;TZID=Australia/Sydney:20260817T190000
DTEND;TZID=Australia/Sydney:20260817T213000
DTSTAMP:20260424T082550
CREATED:20260226T065608Z
LAST-MODIFIED:20260226T070534Z
UID:5759-1786993200-1787002200@upperbluemtnscameraclub.org
SUMMARY:Information night - Mieke Boynton via Zoom
DESCRIPTION:An evening online with Mieke\, who with another Creative talk. \nZoom details will be emailed to club members closer to the date. \nIf you wish to learn more about Mieke’s work\, please follow the link – https://www.miekeboynton.com
URL:https://upperbluemtnscameraclub.org/event/information-night-mieke-boynton-via-zoom/
CATEGORIES:Information Night
END:VEVENT
END:VCALENDAR