BEGIN:VCALENDAR
VERSION:2.0
PRODID:-//Upper Blue Mountains Camera Club - ECPv6.15.20//NONSGML v1.0//EN
CALSCALE:GREGORIAN
METHOD:PUBLISH
X-WR-CALNAME:Upper Blue Mountains Camera Club
X-ORIGINAL-URL:https://upperbluemtnscameraclub.org
X-WR-CALDESC:Events for Upper Blue Mountains Camera Club
REFRESH-INTERVAL;VALUE=DURATION:PT1H
X-Robots-Tag:noindex
X-PUBLISHED-TTL:PT1H
BEGIN:VTIMEZONE
TZID:Australia/Sydney
BEGIN:STANDARD
TZOFFSETFROM:+1100
TZOFFSETTO:+1000
TZNAME:AEST
DTSTART:20240406T160000
END:STANDARD
BEGIN:DAYLIGHT
TZOFFSETFROM:+1000
TZOFFSETTO:+1100
TZNAME:AEDT
DTSTART:20241005T160000
END:DAYLIGHT
BEGIN:STANDARD
TZOFFSETFROM:+1100
TZOFFSETTO:+1000
TZNAME:AEST
DTSTART:20250405T160000
END:STANDARD
BEGIN:DAYLIGHT
TZOFFSETFROM:+1000
TZOFFSETTO:+1100
TZNAME:AEDT
DTSTART:20251004T160000
END:DAYLIGHT
BEGIN:STANDARD
TZOFFSETFROM:+1100
TZOFFSETTO:+1000
TZNAME:AEST
DTSTART:20260404T160000
END:STANDARD
BEGIN:DAYLIGHT
TZOFFSETFROM:+1000
TZOFFSETTO:+1100
TZNAME:AEDT
DTSTART:20261003T160000
END:DAYLIGHT
END:VTIMEZONE
BEGIN:VEVENT
DTSTART;TZID=Australia/Sydney:20250501T000000
DTEND;TZID=Australia/Sydney:20250501T235959
DTSTAMP:20260424T190145
CREATED:20250427T054709Z
LAST-MODIFIED:20250504T060402Z
UID:5190-1746057600-1746143999@upperbluemtnscameraclub.org
SUMMARY:Deadline - Exhibition Night Images
DESCRIPTION:This is the last day to submit images for next week’s Exhibition Night with the set (S) theme of ‘Scapes”\n\nHow – Correctly Sized and named \n \nSizing requirements. \nIf you are unsure\, follow this link to the website:\n.. i.e. within 1920px (max width) × 1200px (max height) – in ‘jpg’ (jpeg) format.\nhttps://upperbluemtnscameraclub.org/info-links/\n\nCorrectly named to include the ‘O’ or the ‘S’\n \n\nThere should be a space and then either an S or O after your image title to identify if your image falls into the ‘open’ or ‘set theme’ category.\n \nDigital Images:  [DPI] name of image S_your initials.jpg (set theme category)\nColour Prints: [CP] name of image O_your initials.jpg (open category)\n\nMono Prints:   [MP] name of image O_your initials.jpg (open category\n \n  \n\n\nPlease remember to make sure that the images you sent are within the guidelines for projected images.\nIf you are unsure\, please check the website https://upperbluemtnscameraclub.org/info-links/2211-2/submitting-images/
URL:https://upperbluemtnscameraclub.org/event/deadline-exhibition-night-images/
CATEGORIES:Exhibition Night
END:VEVENT
BEGIN:VEVENT
DTSTART;TZID=Australia/Sydney:20250505T193000
DTEND;TZID=Australia/Sydney:20250505T213000
DTSTAMP:20260424T190145
CREATED:20250419T002917Z
LAST-MODIFIED:20250504T060359Z
UID:5013-1746473400-1746480600@upperbluemtnscameraclub.org
SUMMARY:Exhibtion night - Scapes
DESCRIPTION:Members may submit up to three images as prints or digital files.\nOur theme Scapes represents landscape in all its forms\, cityscapes and seascape.\nWe welcome Don Munro as our guest judge for the evening.
URL:https://upperbluemtnscameraclub.org/event/exhibtion-night/
LOCATION:Katoomba RSL\, 86 Lurline Street\, Katoomba\, 2780\, Australia
CATEGORIES:Exhibition Night
END:VEVENT
BEGIN:VEVENT
DTSTART;TZID=Australia/Sydney:20250529T000000
DTEND;TZID=Australia/Sydney:20250529T235959
DTSTAMP:20260424T190145
CREATED:20250427T055243Z
LAST-MODIFIED:20250504T060352Z
UID:5192-1748476800-1748563199@upperbluemtnscameraclub.org
SUMMARY:Deadline - Exhibition Night Images
DESCRIPTION:This is the last day to submit images for next week’s Exhibition Night. You can submit images into the ‘Open’ (O) and/or ‘Set’ (S) categories. The set theme for June is ‘Capturing Autumn”\n\nHow – Correctly Sized and named \n \nSizing requirements. \nIf you are unsure\, follow this link to the website:\n.. i.e. within 1920px (max width) × 1200px (max height) – in ‘jpg’ (jpeg) format.\nhttps://upperbluemtnscameraclub.org/info-links/\n\nCorrectly named to include the ‘O’ or the ‘S’\n \n\nThere should be a space and then either an S or O after your image title to identify if your image falls into the ‘open’ or ‘set theme’ category.\n \nDigital Images:  [DPI] name of image S_your initials.jpg (set theme category)\nColour Prints: [CP] name of image O_your initials.jpg (open category)\n\nMono Prints:   [MP] name of image O_your initials.jpg (open category\n \n\n\nPlease remember to make sure that the images you sent are within the guidelines for projected images.\nIf you are unsure\, please check the website https://upperbluemtnscameraclub.org/info-links/2211-2/submitting-images/
URL:https://upperbluemtnscameraclub.org/event/deadline-exhibition-night-images-2/
CATEGORIES:Exhibition Night
END:VEVENT
END:VCALENDAR